BEGIN:VCALENDAR
VERSION:2.0
PRODID:-//Tropical North Queensland Drought Resilience Adoption and Innovation Hub - ECPv6.15.20//NONSGML v1.0//EN
CALSCALE:GREGORIAN
METHOD:PUBLISH
X-ORIGINAL-URL:https://www.tnqdroughthub.com.au
X-WR-CALDESC:Events for Tropical North Queensland Drought Resilience Adoption and Innovation Hub
REFRESH-INTERVAL;VALUE=DURATION:PT1H
X-Robots-Tag:noindex
X-PUBLISHED-TTL:PT1H
BEGIN:VTIMEZONE
TZID:Australia/Brisbane
BEGIN:STANDARD
TZOFFSETFROM:+1000
TZOFFSETTO:+1000
TZNAME:AEST
DTSTART:20220101T000000
END:STANDARD
END:VTIMEZONE
BEGIN:VEVENT
DTSTART;TZID=Australia/Brisbane:20230615T123000
DTEND;TZID=Australia/Brisbane:20230615T153000
DTSTAMP:20260423T183825
CREATED:20230606T041043Z
LAST-MODIFIED:20230606T041043Z
UID:5975-1686832200-1686843000@www.tnqdroughthub.com.au
SUMMARY:WORKSHOP: HELPING LANDHOLDERS TO TELL THEIR STORY!
DESCRIPTION:WORKSHOP: HELPING LANDHOLDERS TO TELL THEIR STORY! \nPresented by Kylie Stretton \nGrazier\, Charters Towers \n  \nRural advocate Kylie Stretton will demonstrate how telling compelling stories about produce and its provenance can help build understanding among consumers. \nLearn how to: \n\npromote the provenance and sustainability credentials of your product;\nreach new customers and maintain relationships with existing ones; and\nbuild social license with positive industry stories.\n\n  \nThursday 15 June\, 12:30pm – 3:30pm. \nExcelsior Library\, 130 Gill Street\, Charters Towers. \nMeeting Room 2. \n  \nThis event will also be streamed via Zoom — link provided upon registration. \nRSVP to Peter Arthofer\, M: 0488 675 033\, peter.arthofer@nqdrytropics.com.au \n  \nThis event is delivered by the Burdekin Regional Agriculture Landcare Facilitator\, and funded through the Australian Government’s National Landcare Program
URL:https://www.tnqdroughthub.com.au/event/workshop-helping-landholders-to-tell-their-story/
LOCATION:Charters Towers\, Charters Towers\, Queensland\, 4820\, Australia
END:VEVENT
END:VCALENDAR