BEGIN:VCALENDAR
VERSION:2.0
PRODID:-//Tropical North Queensland Drought Resilience Adoption and Innovation Hub - ECPv6.15.20//NONSGML v1.0//EN
CALSCALE:GREGORIAN
METHOD:PUBLISH
X-WR-CALNAME:Tropical North Queensland Drought Resilience Adoption and Innovation Hub
X-ORIGINAL-URL:https://www.tnqdroughthub.com.au
X-WR-CALDESC:Events for Tropical North Queensland Drought Resilience Adoption and Innovation Hub
REFRESH-INTERVAL;VALUE=DURATION:PT1H
X-Robots-Tag:noindex
X-PUBLISHED-TTL:PT1H
BEGIN:VTIMEZONE
TZID:Australia/Brisbane
BEGIN:STANDARD
TZOFFSETFROM:+1000
TZOFFSETTO:+1000
TZNAME:AEST
DTSTART:20220101T000000
END:STANDARD
END:VTIMEZONE
BEGIN:VEVENT
DTSTART;TZID=Australia/Brisbane:20230610T090000
DTEND;TZID=Australia/Brisbane:20230610T130000
DTSTAMP:20260423T181608
CREATED:20230606T044722Z
LAST-MODIFIED:20230606T044722Z
UID:5983-1686387600-1686402000@www.tnqdroughthub.com.au
SUMMARY:Protecting lives\, property and businesses from fire
DESCRIPTION:Fire Management Plans protect lives and livelihoods. \nIt is important that CQ land managers review and update their fire management plans. \nDuring these two-part workshops you will develop a customised property plan\, get the latest localised information and gain confidence in preventing and preparing for bushfires. \nCome along to learn… \n\nHow to reduce bushfire threats on your property\nHow to balance fire management and productivity\nWhat fire control methods are best for your property\nControlled burning techniques as recommended fire regimes\nHow to understand fire – how fire moves and interacts with different climates and vegetation\n\nPlus get free large-scale maps of your property and support to create your own Fire Management Plan. \nGot a question? \nThis is your chance to chat with representatives from FBA\, Queensland Fire and Emergency Services\, local government\, and Queensland Parks and Wildlife Services. Join ecologists\, environmental scientists and land management experts. \n“This was a simple and quick way to get our fire management plan updated and out of our heads. Fire moves quickly\, knowing that we’re taken proactive steps and we’re on the same page if a fire starts gives me peace.” \n-Byfield land manager \n\n\n\n\nMarlborough Event Saturday 10 June | 9am – 1pmMarlborough Museum\, 15 Milman St\, Marlborough 4705 \nNebo Event Sunday 11 June | 12pm – 4pmNebo Rural Fire Brigade\, \n\n\n\n\nLunch is provided at the Nebo and Marlborough events. \nFor more information contact: \nMark Schultz | 07 4999 2814 | mark.schultz@fba.org.au \nThis project is supported by Fitzroy Basin Association\, through funding from the Australian Government’s National Landcare Program.
URL:https://www.tnqdroughthub.com.au/event/protecting-lives-property-and-businesses-from-fire/
LOCATION:Marlborough\, Marlborough\, QLD\, 4705
ORGANIZER;CN="Fitzroy Basin Association":MAILTO:admin@fba.org.au
END:VEVENT
BEGIN:VEVENT
DTSTART;TZID=Australia/Brisbane:20230610T100000
DTEND;TZID=Australia/Brisbane:20230610T170000
DTSTAMP:20260423T181608
CREATED:20230530T013335Z
LAST-MODIFIED:20230530T013335Z
UID:5932-1686391200-1686416400@www.tnqdroughthub.com.au
SUMMARY:Earth & Country Community Day
DESCRIPTION:Earth & Country\nJoin us at Ringers Rest in Mareeba for a free community day focused on culture and environment! \n  \nMark it in your calendar\, because the upcoming ‘Earth & Country’ event at Ringers Rest is not one to be missed! Celebrating local Indigenous culture\, leadership and land management\, Earth & Country will be a free\, fun and family-friendly community day running from 10am till dusk. \nThe event will feature Indigenous speakers\, a knowledge space\, an arts space\, songs and storytelling\, activities for kids and more\, and is open to the whole community to attend. \nFor more information\, contact Natarsha Bell at natarsha.bell@gulfsavannahnrm.org
URL:https://www.tnqdroughthub.com.au/event/earth-country-community-day/
LOCATION:Ringers Rest Mareeba: Wedding & Functions Venue 277 Fichera Road Mareeba\, QLD 4880
END:VEVENT
END:VCALENDAR