BEGIN:VCALENDAR
VERSION:2.0
PRODID:-//Tropical North Queensland Drought Resilience Adoption and Innovation Hub - ECPv6.15.20//NONSGML v1.0//EN
CALSCALE:GREGORIAN
METHOD:PUBLISH
X-WR-CALNAME:Tropical North Queensland Drought Resilience Adoption and Innovation Hub
X-ORIGINAL-URL:https://www.tnqdroughthub.com.au
X-WR-CALDESC:Events for Tropical North Queensland Drought Resilience Adoption and Innovation Hub
REFRESH-INTERVAL;VALUE=DURATION:PT1H
X-Robots-Tag:noindex
X-PUBLISHED-TTL:PT1H
BEGIN:VTIMEZONE
TZID:Australia/Brisbane
BEGIN:STANDARD
TZOFFSETFROM:+1000
TZOFFSETTO:+1000
TZNAME:AEST
DTSTART:20220101T000000
END:STANDARD
END:VTIMEZONE
BEGIN:VEVENT
DTSTART;VALUE=DATE:20230605
DTEND;VALUE=DATE:20230608
DTSTAMP:20260423T182440
CREATED:20221121T084629Z
LAST-MODIFIED:20221121T084629Z
UID:3905-1685923200-1686182399@www.tnqdroughthub.com.au
SUMMARY:Hort Connections
DESCRIPTION:Australia and New Zealand’s premiere horticulture conference and trade show.\nKnowledge for growth\nHort Connections 2023\nHort Connections 2023 will be held in Adelaide\, following a highly celebrated Hort Connections 2022 in Brisbane. \nHort Connections 2023 will again adapt to the horticulture industry’s ever-changing needs\, and will offer plenty of networking opportunities\, champion the trade show\, and host the National Awards for Excellence 2023 on Wednesday 7 June. \nHort Connections speakers and exhibitors will showcase the latest research\, technologies\, and innovations to offer new perspectives on the future of Australasia’s horticulture industry. \nATTENDEES\nGrow your connections\, learn about the latest industry research and innovations\, and immerse yourself in Australia and New Zealand’s leading horticulture event. \nEXHIBITORS\nShowcase your business to the largest number of growers under the one roof in 2023. \nSPONSORS\nDemonstrate your industry support and position your brand amongst the leading industry product and service providers.
URL:https://www.tnqdroughthub.com.au/event/hort-connections/
LOCATION:Queensland
END:VEVENT
BEGIN:VEVENT
DTSTART;VALUE=DATE:20230605
DTEND;VALUE=DATE:20230610
DTSTAMP:20260423T182440
CREATED:20230530T015406Z
LAST-MODIFIED:20230530T015406Z
UID:5940-1685923200-1686355199@www.tnqdroughthub.com.au
SUMMARY:Tropical Innovation Festival
DESCRIPTION:Welcome to #TIF2023 \nCelebrating innovation\, investment and entrepreneurship while being inspired\, learning\, and connecting in Tropical North Queensland! \nComing into its third year\, The Tropical Innovation Festival is a week-long innovation festival with a difference… and one to put on your calendar if you’re an entrepreneur\, investor\, embracing innovation or trying to change the world. \nThe Tropical Innovation Festival is designed as an unapologetically informal event that focusses on outcomes our delegates want\, and allowing you to “choose your own adventure”. \nWhen designing the program\, we have considered that everyone has different goals and reasons for attending\, and at times there will be competing artists\, just like there is at a music festival. \nOur sessions are in-general shorter than an average conference\, and we feature our speakers often more than once… plus you will be able to meet people at networking functions.
URL:https://www.tnqdroughthub.com.au/event/tropical-innovation-festival-2/
LOCATION:Cairns\, Cairns\, Queensland\, 4870\, Australia
END:VEVENT
BEGIN:VEVENT
DTSTART;VALUE=DATE:20230606
DTEND;VALUE=DATE:20230609
DTSTAMP:20260423T182440
CREATED:20230411T051757Z
LAST-MODIFIED:20230411T051757Z
UID:5451-1686009600-1686268799@www.tnqdroughthub.com.au
SUMMARY:Elders FarmFest
DESCRIPTION:QUEENSLAND’S LARGEST AND MOST SUCCESSFUL ANNUAL COMMERCIAL AGRICULTURAL BUSINESS EVENT\nElders FarmFest plays a vital role in Australian agriculture\, showcasing and demonstrating a vast range of new products and services\, highlighting new technology and innovation and providing information to professionals on the land. \nFarmFest is well known in the Australian agricultural industry for its dedication to Queensland farming. The agri-event strives to secure quality exhibitors and targets farmers through significant and effective marketing strategies – and is committed to both the rural community and the primary industry. \nELDERS FARMFEST IS THE ONE-STOP FARMER’S SHOP AND HAS BEEN A MAJOR FORCE IN FIELD DAYS FOR THE PAST 47 YEARS.\nOver 2\,000 individual companies and organisations come together on our purpose-built site\, delivering an exceptional field day experience for Queensland’s farming professionals and their entire families.
URL:https://www.tnqdroughthub.com.au/event/elders-farmfest/
LOCATION:Toowoomba\, Toowoomba\, Queensland\, 4350\, Australia
END:VEVENT
BEGIN:VEVENT
DTSTART;VALUE=DATE:20230606
DTEND;VALUE=DATE:20230609
DTSTAMP:20260423T182440
CREATED:20230606T042645Z
LAST-MODIFIED:20230606T042713Z
UID:5980-1686009600-1686268799@www.tnqdroughthub.com.au
SUMMARY:DAF Free weed management workshops
DESCRIPTION:As part of the Farm Business Resilience Program\, DAF are conducting free weed management workshops. \nThese workshops will address:\n• Why do herbicide sprays fail?\n• Tactics to delay herbicide resistance\n• What to do once you have herbicide resistance\n• Plant back risk\n• Non-chemical tactics for weed management\n• Tips to control some major cropping weeds\n• Optical spot sprayer investment calculator. \nWhen: (three separate workshops)\n• Clermont – 6th June 2023\n• Springsure – 7th June 2023\n• Biloela – 8th June 2023\nTime: 9:00am – 3:00pm\nCost: Free\nRSVP: by 1st June 2023 at: \nClermont www.trybooking.com/CHQPB \nSpringsure www.trybooking.com/CHTBY \nBiloela www.trybooking.com/CHTCS
URL:https://www.tnqdroughthub.com.au/event/5980/
LOCATION:Queensland
END:VEVENT
BEGIN:VEVENT
DTSTART;TZID=Australia/Brisbane:20230606T100000
DTEND;TZID=Australia/Brisbane:20230608T170000
DTSTAMP:20260423T182440
CREATED:20230411T051144Z
LAST-MODIFIED:20230411T051144Z
UID:5444-1686045600-1686243600@www.tnqdroughthub.com.au
SUMMARY:2023 Science to Practice Forum
DESCRIPTION:The Future Drought Fund’s annual Science to Practice Forum brings together farmers\, researchers\, government\, industry and the community to explore the innovative tools and practices helping our regions prepare for future drought. \nAward-winning television journalist and presenter of ABC TV’s Landline\, Pip Courtney\, will host this year’s online forum and facilitate engaging conversations on drought preparedness. \nThe Forum is a three-day\, online event that is free to attend\, with each day focussed on a particular theme: \nTuesday 6 June – Research and Development: data-driven projects\, stories around research trials and outcomes\, future-driven content and content relevant to opportunities under the Future Drought Fund for NRM organisations\, farming systems groups and research bodies. \nWednesday 7 June – Farmers\, Producers and Agricultural Advisors: stories of drought and preparing for it\, ‘call-to-action’ presentations\, content relevant to opportunities under the FDF for producers and their communities. Farmer and farm-advisor delivered stories. \nThursday 8 June – Community and Policy: community and social projects\, including presentations on farmer wellbeing and community resilience in the context of drought. Policy discussions and input from FDF network partners. \nThe Forum program is currently in development. Choose to attend all three days or select a ticket for any of the individual days. We recommend the three-day option if you’re unsure of what sessions you would like to attend\, and if registering prior to the release of the Forum program. \nRegister now to attend and see how Australian agriculture is building drought resilience through collaboration.
URL:https://www.tnqdroughthub.com.au/event/2023-science-to-practice-forum/
LOCATION:Online
END:VEVENT
END:VCALENDAR