BEGIN:VCALENDAR
VERSION:2.0
PRODID:-//Tropical North Queensland Drought Resilience Adoption and Innovation Hub - ECPv6.15.20//NONSGML v1.0//EN
CALSCALE:GREGORIAN
METHOD:PUBLISH
X-WR-CALNAME:Tropical North Queensland Drought Resilience Adoption and Innovation Hub
X-ORIGINAL-URL:https://www.tnqdroughthub.com.au
X-WR-CALDESC:Events for Tropical North Queensland Drought Resilience Adoption and Innovation Hub
REFRESH-INTERVAL;VALUE=DURATION:PT1H
X-Robots-Tag:noindex
X-PUBLISHED-TTL:PT1H
BEGIN:VTIMEZONE
TZID:Australia/Brisbane
BEGIN:STANDARD
TZOFFSETFROM:+1000
TZOFFSETTO:+1000
TZNAME:AEST
DTSTART:20220101T000000
END:STANDARD
END:VTIMEZONE
BEGIN:VEVENT
DTSTART;VALUE=DATE:20230605
DTEND;VALUE=DATE:20230608
DTSTAMP:20260423T182502
CREATED:20221121T084629Z
LAST-MODIFIED:20221121T084629Z
UID:3905-1685923200-1686182399@www.tnqdroughthub.com.au
SUMMARY:Hort Connections
DESCRIPTION:Australia and New Zealand’s premiere horticulture conference and trade show.\nKnowledge for growth\nHort Connections 2023\nHort Connections 2023 will be held in Adelaide\, following a highly celebrated Hort Connections 2022 in Brisbane. \nHort Connections 2023 will again adapt to the horticulture industry’s ever-changing needs\, and will offer plenty of networking opportunities\, champion the trade show\, and host the National Awards for Excellence 2023 on Wednesday 7 June. \nHort Connections speakers and exhibitors will showcase the latest research\, technologies\, and innovations to offer new perspectives on the future of Australasia’s horticulture industry. \nATTENDEES\nGrow your connections\, learn about the latest industry research and innovations\, and immerse yourself in Australia and New Zealand’s leading horticulture event. \nEXHIBITORS\nShowcase your business to the largest number of growers under the one roof in 2023. \nSPONSORS\nDemonstrate your industry support and position your brand amongst the leading industry product and service providers.
URL:https://www.tnqdroughthub.com.au/event/hort-connections/
LOCATION:Queensland
END:VEVENT
BEGIN:VEVENT
DTSTART;VALUE=DATE:20230605
DTEND;VALUE=DATE:20230610
DTSTAMP:20260423T182502
CREATED:20230530T015406Z
LAST-MODIFIED:20230530T015406Z
UID:5940-1685923200-1686355199@www.tnqdroughthub.com.au
SUMMARY:Tropical Innovation Festival
DESCRIPTION:Welcome to #TIF2023 \nCelebrating innovation\, investment and entrepreneurship while being inspired\, learning\, and connecting in Tropical North Queensland! \nComing into its third year\, The Tropical Innovation Festival is a week-long innovation festival with a difference… and one to put on your calendar if you’re an entrepreneur\, investor\, embracing innovation or trying to change the world. \nThe Tropical Innovation Festival is designed as an unapologetically informal event that focusses on outcomes our delegates want\, and allowing you to “choose your own adventure”. \nWhen designing the program\, we have considered that everyone has different goals and reasons for attending\, and at times there will be competing artists\, just like there is at a music festival. \nOur sessions are in-general shorter than an average conference\, and we feature our speakers often more than once… plus you will be able to meet people at networking functions.
URL:https://www.tnqdroughthub.com.au/event/tropical-innovation-festival-2/
LOCATION:Cairns\, Cairns\, Queensland\, 4870\, Australia
END:VEVENT
BEGIN:VEVENT
DTSTART;TZID=Australia/Brisbane:20230605T080000
DTEND;TZID=Australia/Brisbane:20230606T170000
DTSTAMP:20260423T182502
CREATED:20230105T235711Z
LAST-MODIFIED:20230531T064821Z
UID:4353-1685952000-1686070800@www.tnqdroughthub.com.au
SUMMARY:Business EDGE workshop Barcaldine\, Qld
DESCRIPTION:Location: Barcaldine\, Queensland \nCost: 1 person $1750\n2+ from business $1500 each\nAll prices exclude GST and are fully tax deductible. \n*register and pay for the workshop four weeks prior to the start date to receive the early bird discount. \n\n\nBusiness EDGE is a two-day workshop designed to enhance producer knowledge and skills in basic financial and business management to improve business efficiency and profitability. \nWhat you’ll learn: \n\nWhat’s driving profit in your business – and what’s not\nHow to set up your financial system to provide you with the information to help manage your business.\nHow to demystify your financial statements\nNew infrastructure or equipment: which one will deliver the biggest bang for your buck?\nFunding for education\, succession and retirement: how much is needed and what can your business fund?
URL:https://www.tnqdroughthub.com.au/event/business-edge-workshop-barcaldine-qld/
LOCATION:Barcaldine\, Barcaldine\, QLD\, Australia
ORGANIZER;CN="Meat and Livestock Australia":MAILTO:info@mla.com.au
END:VEVENT
END:VCALENDAR