BEGIN:VCALENDAR
VERSION:2.0
PRODID:-//Tropical North Queensland Drought Resilience Adoption and Innovation Hub - ECPv6.15.20//NONSGML v1.0//EN
CALSCALE:GREGORIAN
METHOD:PUBLISH
X-ORIGINAL-URL:https://www.tnqdroughthub.com.au
X-WR-CALDESC:Events for Tropical North Queensland Drought Resilience Adoption and Innovation Hub
REFRESH-INTERVAL;VALUE=DURATION:PT1H
X-Robots-Tag:noindex
X-PUBLISHED-TTL:PT1H
BEGIN:VTIMEZONE
TZID:Australia/Brisbane
BEGIN:STANDARD
TZOFFSETFROM:+1000
TZOFFSETTO:+1000
TZNAME:AEST
DTSTART:20220101T000000
END:STANDARD
END:VTIMEZONE
BEGIN:VEVENT
DTSTART;VALUE=DATE:20230602
DTEND;VALUE=DATE:20230604
DTSTAMP:20260423T182858
CREATED:20230202T050530Z
LAST-MODIFIED:20230202T050547Z
UID:4536-1685664000-1685836799@www.tnqdroughthub.com.au
SUMMARY:NORTHERN BEEF PRODUCERS EXPO
DESCRIPTION:The NORTHERN BEEF PRODUCERS EXPO is BACK IN 2023 BIGGER  THEN EVER BEFORE AND  BETTER! \nThe Northern Beef Producers Incorporated (NBP Inc.) is excited to launch the SEVENTH Northern Beef Producers Expo (NBPE) to be held in Charters Towers at the H.M. Clarke Saleyards and Equestrian Centre on Friday the 2nd and Saturday the 3rd of June 2023.
URL:https://www.tnqdroughthub.com.au/event/northern-beef-producers-expo/
LOCATION:Charters Towers\, Charters Towers\, Queensland\, 4820\, Australia
ORGANIZER;CN="Northern Beef Producers Inc. Committee":MAILTO:admin@nbpe.com.au
END:VEVENT
END:VCALENDAR