BEGIN:VCALENDAR
VERSION:2.0
PRODID:-//Tropical North Queensland Drought Resilience Adoption and Innovation Hub - ECPv6.15.20//NONSGML v1.0//EN
CALSCALE:GREGORIAN
METHOD:PUBLISH
X-WR-CALNAME:Tropical North Queensland Drought Resilience Adoption and Innovation Hub
X-ORIGINAL-URL:https://www.tnqdroughthub.com.au
X-WR-CALDESC:Events for Tropical North Queensland Drought Resilience Adoption and Innovation Hub
REFRESH-INTERVAL;VALUE=DURATION:PT1H
X-Robots-Tag:noindex
X-PUBLISHED-TTL:PT1H
BEGIN:VTIMEZONE
TZID:Australia/Brisbane
BEGIN:STANDARD
TZOFFSETFROM:+1000
TZOFFSETTO:+1000
TZNAME:AEST
DTSTART:20220101T000000
END:STANDARD
END:VTIMEZONE
BEGIN:VEVENT
DTSTART;VALUE=DATE:20230522
DTEND;VALUE=DATE:20230526
DTSTAMP:20260423T193625
CREATED:20221123T053655Z
LAST-MODIFIED:20221123T053655Z
UID:3959-1684713600-1685059199@www.tnqdroughthub.com.au
SUMMARY:Northern Australia Food Futures Conference 2023
DESCRIPTION:The Northern Australia Food Futures Conference is Australia’s leading conference on agricultural development in the North. \nThe conference is integral in driving expansion in the north and places northern agriculture on the national agenda. Investors\, politicians\, industry and community stakeholders from around Australia and the world attend the Conference to explore agricultural opportunities in the north. \nThe three-day conference held in Darwin\, Northern Territory will feature: \n\nOver 50 speakers from industry\, research\, government and private sector\, including successful farmers from WA\, NT and Qld as speakers\nWorkshops\, keynote and plenary sessions\nAg Tech Forum\nExhibition and displays\nIncredible social program showcasing the very best of Darwin and surrounds\n\nThe biennial NT Farmers Association Food Futures Conference is now in its 5th year and receives strong support from the governments of the Northern Territory\, Western Australia and Queensland\, the National Farmers Federation\, Hort Innovation\, Cotton Australia and the private sector.
URL:https://www.tnqdroughthub.com.au/event/northern-australia-food-futures-conference-2023-2/
LOCATION:Darwin\, Darwin\, Northern Territory\, 0800\, Australia
END:VEVENT
BEGIN:VEVENT
DTSTART;VALUE=DATE:20230524
DTEND;VALUE=DATE:20230527
DTSTAMP:20260423T193625
CREATED:20220526T041013Z
LAST-MODIFIED:20220526T041013Z
UID:2576-1684886400-1685145599@www.tnqdroughthub.com.au
SUMMARY:Rotary FNQ Field Days
DESCRIPTION:Held over three days\, the field days is the largest field days in Northern Australia – it’s ‘a meeting place for rural business’. With a major focus on Ag Innovations\, Farm Safety and Rural Mental Wellness the field days have expanded into relevant topics for our rural industries.
URL:https://www.tnqdroughthub.com.au/event/rotary-fnq-field-days/
LOCATION:Mareeba\, Mareeba
END:VEVENT
BEGIN:VEVENT
DTSTART;VALUE=DATE:20230524
DTEND;VALUE=DATE:20230527
DTSTAMP:20260423T193625
CREATED:20220721T223833Z
LAST-MODIFIED:20220721T223833Z
UID:2892-1684886400-1685145599@www.tnqdroughthub.com.au
SUMMARY:International Business\, Environment & Climate Conference (IBECC)
DESCRIPTION:Sustainability is fast becoming one of the most important issues facing investors and businesses today\, and assessing the risks and opportunities of a changing climate is now an imperative. \nJoin us in Cairns\, Queensland\, Australia for the inaugural International Business\, Environment & Climate Conference (IBECC) from 24 – 26 May 2023 at the Cairns Convention Centre. Attending IBECC\, you will learn from global leaders and presenters as they provide an in-depth analysis into the future of ESG reporting\, aligning business outcomes with net-zero commitments\, how to drive sustainable business growth\, and more! \nIn addition to a compelling line-up of presenters\, this unique three-day conference will provide an opportunity to experience first hand the impacts Climate Change is having on the World Heritage Listed Great Barrier Reef and what innovative restoration projects are in place to protect and manage coral reefs. \nCairns is the only place in the world where two natural UNESCO World Heritage-listed sites sit side by side: the Daintree Rainforest and Great Barrier Reef. This spectacular region boasts the largest number of eco-certified operators in Australia and is the perfect host destination for IBECC. \nThe conference will be held both in-person and in virtual format\, so it will remain accessible to those who are unable to attend in person.
URL:https://www.tnqdroughthub.com.au/event/international-business-environment-climate-conference-ibecc/
LOCATION:Cairns Convention Centre\, Sheridan St & Wharf St\, Cairns\, Queensland\, 4870\, Australia
END:VEVENT
BEGIN:VEVENT
DTSTART;VALUE=DATE:20230524
DTEND;VALUE=DATE:20230527
DTSTAMP:20260423T193625
CREATED:20221123T053847Z
LAST-MODIFIED:20221123T053847Z
UID:3961-1684886400-1685145599@www.tnqdroughthub.com.au
SUMMARY:Rotary FNQ Field Days 2023
DESCRIPTION:Held over three days – 24th\, 25th & 26th May 2023. The multi award-winning field days is the largest field days in Northern Australia – and it’s all for charity! \nOpening Times: \nWednesday & Thursday – 9.00am to 6.00pm \nFriday – 9.00am – 4.00pm \n  \nThe Rotary FNQ Field Days are a project of the Rotary Clubs of Atherton and Mareeba. \nAll monies raised are donated to charities and community organisations. \nThe Rotary FNQ Field Days has grown exponentially since its conception in the mid 1980’s. Run by the combined Atherton and Mareeba Rotary Clubs\, the community event continues to raise record amounts each time the event is run.  On average 8\,000 people came through our gates each day. \nHeld over three days on a biennial basis\, the award-winning field days is the largest community event on the Tablelands.
URL:https://www.tnqdroughthub.com.au/event/rotary-fnq-field-days-2023/
LOCATION:Mareeba\, Mareeba
END:VEVENT
END:VCALENDAR