BEGIN:VCALENDAR
VERSION:2.0
PRODID:-//Tropical North Queensland Drought Resilience Adoption and Innovation Hub - ECPv6.15.20//NONSGML v1.0//EN
CALSCALE:GREGORIAN
METHOD:PUBLISH
X-WR-CALNAME:Tropical North Queensland Drought Resilience Adoption and Innovation Hub
X-ORIGINAL-URL:https://www.tnqdroughthub.com.au
X-WR-CALDESC:Events for Tropical North Queensland Drought Resilience Adoption and Innovation Hub
REFRESH-INTERVAL;VALUE=DURATION:PT1H
X-Robots-Tag:noindex
X-PUBLISHED-TTL:PT1H
BEGIN:VTIMEZONE
TZID:Australia/Brisbane
BEGIN:STANDARD
TZOFFSETFROM:+1000
TZOFFSETTO:+1000
TZNAME:AEST
DTSTART:20220101T000000
END:STANDARD
END:VTIMEZONE
BEGIN:VEVENT
DTSTART;VALUE=DATE:20230517
DTEND;VALUE=DATE:20230520
DTSTAMP:20260423T193555
CREATED:20221123T053247Z
LAST-MODIFIED:20221123T053247Z
UID:3957-1684281600-1684540799@www.tnqdroughthub.com.au
SUMMARY:Australian Banana Industry Congress
DESCRIPTION:Held every two years\, Congress is a unique chance for all those involved in producing the nation’s most-loved fruit to network\, share ideas and be brought up-to-date with latest cutting edge technology\, innovation and essential research and developments affecting industry. \nThe 15th Congress is returning to the Cairns Convention Centre and the Pullman Cairns Reef Casino hotel\, which will be transformed into ‘Banana Central’ over the two-and-a-half days of the event. \nDon’t miss out on celebrating with us in Tropical FNQ in 2023!
URL:https://www.tnqdroughthub.com.au/event/australian-banana-industry-congress/
LOCATION:Cairns Convention Centre\, Sheridan St & Wharf St\, Cairns\, Queensland\, 4870\, Australia
END:VEVENT
END:VCALENDAR