BEGIN:VCALENDAR
VERSION:2.0
PRODID:-//Tropical North Queensland Drought Resilience Adoption and Innovation Hub - ECPv6.15.20//NONSGML v1.0//EN
CALSCALE:GREGORIAN
METHOD:PUBLISH
X-WR-CALNAME:Tropical North Queensland Drought Resilience Adoption and Innovation Hub
X-ORIGINAL-URL:https://www.tnqdroughthub.com.au
X-WR-CALDESC:Events for Tropical North Queensland Drought Resilience Adoption and Innovation Hub
REFRESH-INTERVAL;VALUE=DURATION:PT1H
X-Robots-Tag:noindex
X-PUBLISHED-TTL:PT1H
BEGIN:VTIMEZONE
TZID:Australia/Brisbane
BEGIN:STANDARD
TZOFFSETFROM:+1000
TZOFFSETTO:+1000
TZNAME:AEST
DTSTART:20220101T000000
END:STANDARD
END:VTIMEZONE
BEGIN:VEVENT
DTSTART;TZID=Australia/Brisbane:20230421T080000
DTEND;TZID=Australia/Brisbane:20230421T163000
DTSTAMP:20260423T214557
CREATED:20230411T060036Z
LAST-MODIFIED:20230411T060036Z
UID:5473-1682064000-1682094600@www.tnqdroughthub.com.au
SUMMARY:AgForce NQ Drones Demo Day - Athelstane Station Winton
DESCRIPTION:AgForce Drones Demo Day – Spins and Spills\, Athestane Station \n\nLearn how to use a drone\nSee drones in action – try your hand\nUnderstand the rules for landholders and drones\nTalk to people who are using drones in their operations\nBRING YOUR DRONE — put new skills into practice on the day\n\nTrainer/Keynote Speaker: Luke Chaplain\, SkyKelpie \nMorning tea and lunch provided – All welcome\nLOCATION: Athelstane Station\, via Winton\, QLD\, 4735 \nDATE: Friday 21 April 2023 \nTIME: 8.00am – 4.30pm \nRSVP: Register by Monday 17 April. Please advise of any dietary requirements. \nEnquiries: AgForce North West Regional Manager\, Vol Norris M: 0488 002 038 E: NorrisV@agforceqld.org.au \n* Any COVID-19 restrictions current at the time will apply to this event
URL:https://www.tnqdroughthub.com.au/event/agforce-nq-drones-demo-day-athelstane-station-winton/
LOCATION:Athelstane Station\, 3163 Opalton Road via Winton\, Winton\, Queensland\, 4735
ORGANIZER;CN="AgForce":MAILTO:agforce@agforceqld.org.au
END:VEVENT
BEGIN:VEVENT
DTSTART;TZID=Australia/Brisbane:20230421T090000
DTEND;TZID=Australia/Brisbane:20230421T130000
DTSTAMP:20260423T214557
CREATED:20230411T050100Z
LAST-MODIFIED:20230411T050100Z
UID:5435-1682067600-1682082000@www.tnqdroughthub.com.au
SUMMARY:Fire Management Workshops
DESCRIPTION:Protecting lives\, homes and businesses from fire. \nManage & prepare for fire & wildfire in the Upper Nogoa\, Injune and Maranoa areas. \nCome along to learn…\n• How to reduce bushfire threats on your property\n• How to balance fire management and productivity\n• What fire control methods are best for your property\n• How to understand fire – how fire moves and interacts with different climates and vegetation.\n• Plus get free large-scale maps of your property and support to create your own Fire Management Plan. \nWhen:\n• Springsure-21st April 2023\nTime: 9:00am – 1:00pm\nCost: Free\nRSVP: Catherine on catherine.pohlman@fba.org.au or 0448 412 610 by 4th April. \n 
URL:https://www.tnqdroughthub.com.au/event/fire-management-workshops-2/
LOCATION:Bauhinia Memorial Hall\, Porphyry & Eclipse Street\, Springsure\, Queensland\, 4722\, Australia
ORGANIZER;CN="Fitzroy Basin Association":MAILTO:admin@fba.org.au
END:VEVENT
BEGIN:VEVENT
DTSTART;TZID=Australia/Brisbane:20230421T090000
DTEND;TZID=Australia/Brisbane:20230421T140000
DTSTAMP:20260423T214557
CREATED:20230411T042451Z
LAST-MODIFIED:20230411T042451Z
UID:5426-1682067600-1682085600@www.tnqdroughthub.com.au
SUMMARY:GRAZING NATURALLY INTRO WORKSHOP
DESCRIPTION:Spend a day with one of Australia’s most highly-regarded grazing management educators. Introduction to: \n\nKey principles of the Grazing Naturally methodology;\nThe STAC method of forage budgeting; and\nSimple grazing management to increase forage & ground cover\n\n  \nFor more information contact: \nBrad Martin E: brad.martin@nqdrytropics.com.au M: 0456 554 710
URL:https://www.tnqdroughthub.com.au/event/grazing-naturally-intro-workshop/
LOCATION:Orr Farm\, 466 Eungella Dam Rd
END:VEVENT
END:VCALENDAR