BEGIN:VCALENDAR
VERSION:2.0
PRODID:-//Tropical North Queensland Drought Resilience Adoption and Innovation Hub - ECPv6.15.20//NONSGML v1.0//EN
CALSCALE:GREGORIAN
METHOD:PUBLISH
X-ORIGINAL-URL:https://www.tnqdroughthub.com.au
X-WR-CALDESC:Events for Tropical North Queensland Drought Resilience Adoption and Innovation Hub
REFRESH-INTERVAL;VALUE=DURATION:PT1H
X-Robots-Tag:noindex
X-PUBLISHED-TTL:PT1H
BEGIN:VTIMEZONE
TZID:Australia/Brisbane
BEGIN:STANDARD
TZOFFSETFROM:+1000
TZOFFSETTO:+1000
TZNAME:AEST
DTSTART:20220101T000000
END:STANDARD
END:VTIMEZONE
BEGIN:VEVENT
DTSTART;TZID=Australia/Brisbane:20230412T160000
DTEND;TZID=Australia/Brisbane:20230415T230000
DTSTAMP:20260425T051441
CREATED:20230131T014309Z
LAST-MODIFIED:20230131T014309Z
UID:4497-1681315200-1681599600@www.tnqdroughthub.com.au
SUMMARY:Northern Intercollegiate Meat Judging Association (ICMJ) Conference 2023
DESCRIPTION:The Northern ICMJ Conference will return in 2023 to Rockhampton\nHosted at CQU and Teys Rockhampton\, the Northern ICMJ Conference will return in 2023 from the 12th to 15th April\, with the aim to: \n\nEquip attendees with better knowledge and skills specific to northern beef production and associated meat quality and attributes\nHighlight carcass characteristics of northern beef breeds and resulting meat quality\nRaise awareness of career and networking opportunities & create linkages with future employers and industry across the northern beef supply chain\nExpose attendees to new technologies and capabilities within the meat industry\nCreate knowledge of Australia’s position within the global meat supply chain\n\nWhat does your ticket include?\n\nConference registration (Wednesday – Saturday) consisting of guest speakers\, interactive workshops\, carcase breakdown\, primal identification\, live animal assessments\, plant tour of Teys and beef judging competition (to name a few!)\nMeals: Morning tea and lunches (Thursday – Saturday)\nDinners (Wednesday – Friday)\nConference dinner (Saturday)\n\nWhere is the conference held?\n\nAt CQUniversity’s Central Queensland Innovation and Research Precinct (CQIRP) at 630 Ibis Avenue\, Rockhampton North\nSite visit and beef judging competition at Teys Rockhampton\nVarious dinner locations for you to experience the Beef capital of Australia!
URL:https://www.tnqdroughthub.com.au/event/northern-intercollegiate-meat-judging-association-icmj-conference-2023/
LOCATION:CQIRB\, Ibis Avenue\, Rockhampton\, Queensland\, 4700\, Australia
END:VEVENT
END:VCALENDAR