BEGIN:VCALENDAR
VERSION:2.0
PRODID:-//Tropical North Queensland Drought Resilience Adoption and Innovation Hub - ECPv6.15.20//NONSGML v1.0//EN
CALSCALE:GREGORIAN
METHOD:PUBLISH
X-ORIGINAL-URL:https://www.tnqdroughthub.com.au
X-WR-CALDESC:Events for Tropical North Queensland Drought Resilience Adoption and Innovation Hub
REFRESH-INTERVAL;VALUE=DURATION:PT1H
X-Robots-Tag:noindex
X-PUBLISHED-TTL:PT1H
BEGIN:VTIMEZONE
TZID:Australia/Brisbane
BEGIN:STANDARD
TZOFFSETFROM:+1000
TZOFFSETTO:+1000
TZNAME:AEST
DTSTART:20220101T000000
END:STANDARD
END:VTIMEZONE
BEGIN:VEVENT
DTSTART;TZID=Australia/Brisbane:20230412T160000
DTEND;TZID=Australia/Brisbane:20230415T230000
DTSTAMP:20260423T214847
CREATED:20230131T014309Z
LAST-MODIFIED:20230131T014309Z
UID:4497-1681315200-1681599600@www.tnqdroughthub.com.au
SUMMARY:Northern Intercollegiate Meat Judging Association (ICMJ) Conference 2023
DESCRIPTION:The Northern ICMJ Conference will return in 2023 to Rockhampton\nHosted at CQU and Teys Rockhampton\, the Northern ICMJ Conference will return in 2023 from the 12th to 15th April\, with the aim to: \n\nEquip attendees with better knowledge and skills specific to northern beef production and associated meat quality and attributes\nHighlight carcass characteristics of northern beef breeds and resulting meat quality\nRaise awareness of career and networking opportunities & create linkages with future employers and industry across the northern beef supply chain\nExpose attendees to new technologies and capabilities within the meat industry\nCreate knowledge of Australia’s position within the global meat supply chain\n\nWhat does your ticket include?\n\nConference registration (Wednesday – Saturday) consisting of guest speakers\, interactive workshops\, carcase breakdown\, primal identification\, live animal assessments\, plant tour of Teys and beef judging competition (to name a few!)\nMeals: Morning tea and lunches (Thursday – Saturday)\nDinners (Wednesday – Friday)\nConference dinner (Saturday)\n\nWhere is the conference held?\n\nAt CQUniversity’s Central Queensland Innovation and Research Precinct (CQIRP) at 630 Ibis Avenue\, Rockhampton North\nSite visit and beef judging competition at Teys Rockhampton\nVarious dinner locations for you to experience the Beef capital of Australia!
URL:https://www.tnqdroughthub.com.au/event/northern-intercollegiate-meat-judging-association-icmj-conference-2023/
LOCATION:CQIRB\, Ibis Avenue\, Rockhampton\, Queensland\, 4700\, Australia
END:VEVENT
BEGIN:VEVENT
DTSTART;TZID=Australia/Brisbane:20230413T090000
DTEND;TZID=Australia/Brisbane:20230413T140000
DTSTAMP:20260423T214847
CREATED:20230411T050833Z
LAST-MODIFIED:20230411T050833Z
UID:5441-1681376400-1681394400@www.tnqdroughthub.com.au
SUMMARY:Farm Business Resilience Program - Wowan
DESCRIPTION:Building Business Resilience: Wowan \nAs part of the Farm Business Resilience Program\, Department of Agriculture and Fisheries conducting a free Building Business Resilience workshop for grains and mixed producers in Wowan. \nThis workshop will help to:\n• identify practices that will help you to be better prepared for a changing climate\, including drought\n• review or develop an on-farm plan to prioritise these practices\n• improve your knowledge and skills to effectively integrate these practices into your enterprise\nThe workshop is also the first step in the development of a farm business resilience plan. This plan is a mandatory requirement when applying for drought preparedness through QRIDA (Queensland Rural and Industry Development Authority) – up to $50\,000 in grants and $250\,000 as low-cost loans. \nTo assist you with the preparedness against drought and dry conditions\, DAF invites you to the workshop. \nFor more information\, please contact\nMohammad Ali\nDepartment of Agriculture and Fisheries\, 99 Hospital Road\, Emerald\nM: 0436 676 539\nE: Mohammad.Ali@daf.qld.gov.au \nThe Farm Business Resilience Program is jointly funded through the Australian Government’s Future Drought Fund and the Queensland Government’s Drought and Climate Adaptation Program.
URL:https://www.tnqdroughthub.com.au/event/farm-business-resilience-program-wowan/
LOCATION:Wowan/Dululu Multi-Purpose Centre\, 19 Railway Ave\, Wowan\, Queensland\, 4702\, Australia
ORGANIZER;CN="Fitzroy Basin Association":MAILTO:admin@fba.org.au
END:VEVENT
BEGIN:VEVENT
DTSTART;TZID=Australia/Brisbane:20230413T090000
DTEND;TZID=Australia/Brisbane:20230413T160000
DTSTAMP:20260423T214847
CREATED:20230411T043916Z
LAST-MODIFIED:20230411T043916Z
UID:5429-1681376400-1681401600@www.tnqdroughthub.com.au
SUMMARY:Nature Refuge Multi-topic Forum
DESCRIPTION:Learn how to protect native species on your patch\, whether it’s 2ha or 2\,000ha! Everything you need to know about establishing or managing natural assets or nature refuges in CQ. Chat to likeminded land managers and get your questions answered by industry authorities. \nLearn about… \n\nManaging a nature refuge\nPest management (plants and animals)\nFencing options\nVegetation management (updated exemptions and clearing codes)\nCarbon farming – the benefits and regional opportunities\nTrees in grazing systems – how it benefits productivity and profitability\nPest animal trapping (includes demonstration)\nAvailable resources and funding opportunities\n\nThis is your chance to chat to representatives from FBA\, Ecosure\, The Department of Environment and Science\, Queensland Parks and Wildlife Service and Partnerships\, Gallagher Fencing \, RegenCo and other industry experts. \nWhen: 13th April 2023\nTime: 9:00am – 4:00pm\nCost: Free\nRSVP: Bethlea on Bethlea.Bell@fba.org.au or 0448 321 452 by 6th April. \n  \n 
URL:https://www.tnqdroughthub.com.au/event/nature-refuge-multi-topic-forum/
LOCATION:Coonabar Station Rolleston QLD 4702\, Coonabar Station Rolleston QLD 4702
ORGANIZER;CN="Fitzroy Basin Association":MAILTO:admin@fba.org.au
END:VEVENT
END:VCALENDAR